BEGIN:VCALENDAR
VERSION:2.0
PRODID:-//Library Market//iCal Export//EN
BEGIN:VEVENT
SUMMARY:Readers in the Garden
UID:7644
DTSTAMP:20260422T092600Z
DTSTART:20260608T170000Z
DTEND:20260608T180000Z
LOCATION:Columbia County Traveling Library, 319 Pine Street, Catawissa, PA
  17820, United States
ROOM: Catawissa Branch
DESCRIPTION:🌱📚 Readers in the GardenJoin us for a hands-on garden ad
 venture at the Catawissa Branch! Each week, children will explore stories,
  dig into fun STEM activities, and help care for our growing garden—plan
 ting, watering, and harvesting along the way.🗓 Mondays, June 1 – July
  27⏰ 1:00–2:00 PM📍 Catawissa BranchDesigned for ages 5–12. Regist
 ration is required and space is limited to 20 participants. https://forms.
 gle/oFtruREJGE9YMSBJ9Come grow with us—where stories and gardens bloom t
 ogether! 🌼
URL:https://columbiapa.librarycalendar.com/event/readers-garden-7644
END:VEVENT
END:VCALENDAR
