BEGIN:VCALENDAR
VERSION:2.0
PRODID:-//Library Market//iCal Export//EN
BEGIN:VEVENT
SUMMARY:Author Talk: Steven C. Wright
UID:7560
DTSTAMP:20260423T224600Z
DTSTART:20260620T140000Z
DTEND:20260620T160000Z
LOCATION:225 Market Street, Bloomsburg, PA 17815, United States
ROOM: Living Room
DESCRIPTION:Due to a scheduling conflict, we will need to reschedule for a
  future date. We apologize for the inconvenience, and we&#039;ll announce 
 a new date soon!OUTDOORSMAN, COPPERSMITH, BUILDER, FATHER, AND WIDOWER –
  Steven C. Wright combines his love of nature and of his dearly departed w
 ife in a raw memoir about the 2,200-mile journey along the Appalachian Tra
 il he took to deal with maintaining faith in the face of significant loss.
  This perilous journey forced him to confront his losses, weaknesses, stre
 ngths, and sense of self. Now, he bravely bares his soul to the world in h
 opes of helping others discover self-forgiveness and inner peace. Please 
 join us for refreshments and conversation with Steven. Registration is req
 uired. Copies of his book will be available for purchase at the event.
URL:https://columbiapa.librarycalendar.com/event/author-talk-steven-c-wrig
 ht-7560
END:VEVENT
END:VCALENDAR
